BEGIN:VCALENDAR
VERSION:2.0
PRODID:-//From Freedom Riders to Freedom Readers: - ECPv6.7.0//NONSGML v1.0//EN
CALSCALE:GREGORIAN
METHOD:PUBLISH
X-WR-CALNAME:From Freedom Riders to Freedom Readers:
X-ORIGINAL-URL:https://booksunbanned.org
X-WR-CALDESC:Events for From Freedom Riders to Freedom Readers:
REFRESH-INTERVAL;VALUE=DURATION:PT1H
X-Robots-Tag:noindex
X-PUBLISHED-TTL:PT1H
BEGIN:VTIMEZONE
TZID:UTC
BEGIN:STANDARD
TZOFFSETFROM:+0000
TZOFFSETTO:+0000
TZNAME:UTC
DTSTART:20230101T000000
END:STANDARD
END:VTIMEZONE
BEGIN:VEVENT
DTSTART;TZID=UTC:20231014T110000
DTEND;TZID=UTC:20231014T130000
DTSTAMP:20260420T114139
CREATED:20231011T121253Z
LAST-MODIFIED:20231011T121445Z
UID:725-1697281200-1697288400@booksunbanned.org
SUMMARY:The New Republic Banned Book Tour - Norfolk\, VA
DESCRIPTION:The African American Policy Forum (AAPF) is fighting back against book bans with a new campaign across the country: The Freedom Readers. AAPF is partnering with the Transformative Justice Coalition (TJC) on a bus tour to mobilize “10 Million More Black Voters” in time for the 2022 midterms. We are bringing banned books directly to the people in over two dozen cities in key swing states from Minnesota to Florida! Executive Director Kimberlé Crenshaw\, local authors\, and community leaders will be talking about local book bans\, reading from banned books\, and giving away copies of some of the titles we have seen targeted across the nation\, especially those by Black and LGBTQ authors. Book banning is an important front in the current assault on our children\, education system\, and democracy\, and this bus tour will send a powerful message that the fight for truth and for books is intertwined with the fight for voting rights and voter mobilization. \nThe New Republic and our partners are launching a bold new initiative to combat censorship and celebrate the First Amendment\, to coincide with Banned Books Week\, October 1–7\, 2023. \nWe are taking it on the road\, sending a bookmobile to distribute books\, present author readings and book signings\, and educate you on what you can do to fight book banning. \nOur “festival on wheels” will connect with communities\, authors\, bookstores\, libraries\, and local leaders to celebrate the freedom to read.
URL:https://booksunbanned.org/event/the-new-republic-banned-book-tour-jacksonville-fl/
LOCATION:PA
CATEGORIES:The New Republic Tour 2023
ATTACH;FMTTYPE=image/png:https://booksunbanned.org/wp-content/uploads/2023/10/NewRepublic_1080x1080_2.png
END:VEVENT
END:VCALENDAR